BEGIN:VCALENDAR
VERSION:2.0
PRODID:-//eventon.com NONSGML v1.0//EN
CALSCALE:GREGORIAN
METHOD:PUBLISH
BEGIN:VEVENT
UID:69e4b145a184e
DTSTAMP:20260419T054109
DTSTART:20260418T150000Z
DTEND:20260418T120000Z
TZID:America/Chicago
LOCATION:
SUMMARY:Jay Suenos @ The Crush Pad @ 3pm
DESCRIPTION:The Crush Pad by Veesart Cellars 1717 Crickets Avenue Saturday\,  April 18th 3:00 &#8211; 5:00pm Come out for some live music! &nbsp; https://www.facebook.com/profile.php?id=61577358214450#\nhttps://lubbockculturaldistrict.org/events/jay-suenos-the-crush-pad-3pm/
URL:https://lubbockculturaldistrict.org/events/jay-suenos-the-crush-pad-3pm/
END:VEVENT
END:VCALENDAR