BEGIN:VCALENDAR
VERSION:2.0
PRODID:-//eventon.com NONSGML v1.0//EN
CALSCALE:GREGORIAN
METHOD:PUBLISH
BEGIN:VEVENT
UID:69e7812899088
DTSTAMP:20260421T085240
DTSTART:20260312T160000Z
DTEND:20260312T120000Z
TZID:America/Chicago
LOCATION:
SUMMARY:Digital Bytes @ Mahon Library @ 4pm
DESCRIPTION:Lubbock Public Library Mahon Library 1306 9th Street Thursday\,  March 12th &amp; 26th 4:00 – 5:00pm For ages 18 and up. The library offers beginner-level computer classes to provide foundational computer skills. Participants will receive a certificate upon completing all classes\,  but everyone is welcome to join as they need.[..]\nhttps://lubbockculturaldistrict.org/events/digital-bytes-mahon-library-4pm-2/
URL:https://lubbockculturaldistrict.org/events/digital-bytes-mahon-library-4pm-2/
END:VEVENT
END:VCALENDAR