BEGIN:VCALENDAR
VERSION:2.0
PRODID:-//eventon.com NONSGML v1.0//EN
CALSCALE:GREGORIAN
METHOD:PUBLISH
BEGIN:VEVENT
UID:69e518e3b2418
DTSTAMP:20260419T130315
DTSTART:20251105T190000Z
DTEND:20251105T175900Z
TZID:America/Chicago
LOCATION:
SUMMARY:Open Mic Night @ Mano Negra Brewing Co @ 7pm
DESCRIPTION:Mano Negra Brewing Co. 708 13th St Wednesdays 7:00pm open Mic Night with food trucks! &nbsp; https://www.facebook.com/manonegrabrewingco\nhttps://lubbockculturaldistrict.org/events/open-mic-night-mano-negra-brewing-co-7pm/var/ri-3.l-L1
URL:https://lubbockculturaldistrict.org/events/open-mic-night-mano-negra-brewing-co-7pm/var/ri-3.l-L1
END:VEVENT
END:VCALENDAR