BEGIN:VCALENDAR
VERSION:2.0
PRODID:-//eventon.com NONSGML v1.0//EN
CALSCALE:GREGORIAN
METHOD:PUBLISH
BEGIN:VEVENT
UID:69e61fa6024ba
DTSTAMP:20260420T074422
DTSTART:20250927T183000Z
DTEND:20250927T173000Z
TZID:America/Chicago
LOCATION:
SUMMARY:Nightmare Dark Market | Nightmare on 19th Street @ Lonestar Amphitheater @ 6:30pm
DESCRIPTION:Nightmare on 19th Street Lonestar Amphitheater 602 E 19th St Saturday\,  September 27th 6:30 &#8211; 10:30pm Nightmare On 19th Street will host its Annual Dark Market. Local vendors will be displaying and selling spooky and special crafts. This frightful fair will take place on our Midway on opening night. It[..]\nhttps://lubbockculturaldistrict.org/events/nightmare-dark-market-nightmare-on-19th-street-lonestar-amphitheater-630pm/
URL:https://lubbockculturaldistrict.org/events/nightmare-dark-market-nightmare-on-19th-street-lonestar-amphitheater-630pm/
END:VEVENT
END:VCALENDAR