BEGIN:VCALENDAR
VERSION:2.0
PRODID:-//eventon.com NONSGML v1.0//EN
CALSCALE:GREGORIAN
METHOD:PUBLISH
BEGIN:VEVENT
UID:69eb9691c8818
DTSTAMP:20260424T111305
DTSTART:20250801T090000Z
DTEND:20250813T180000Z
TZID:America/Chicago
LOCATION:
SUMMARY:CALL FOR ARTISTS | Butterfly Art Contest @ Lubbock Arts Alliance
DESCRIPTION:CALL FOR ARTISTS Butterfly Art Contest Lubbock Arts Alliance &nbsp; &nbsp; &nbsp; https://www.instagram.com/lubbockarts/\nhttps://lubbockculturaldistrict.org/events/call-for-artists-butterfly-art-contest-lubbock-arts-alliance/
URL:https://lubbockculturaldistrict.org/events/call-for-artists-butterfly-art-contest-lubbock-arts-alliance/
END:VEVENT
END:VCALENDAR