BEGIN:VCALENDAR
VERSION:2.0
PRODID:-//eventon.com NONSGML v1.0//EN
CALSCALE:GREGORIAN
METHOD:PUBLISH
BEGIN:VEVENT
UID:69e6335607919
DTSTAMP:20260420T090822
DTSTART:20250801T000000Z
DTEND:20250822T185900Z
TZID:America/Chicago
LOCATION:
SUMMARY:Call for Entries | Celebración: Annual Día de los Muertos Exhibiton @ Buddy Holly Center
DESCRIPTION:Call for Entries Buddy Holly Center 1801 Crickets Avenue RSVP By: August 22nd\,  2025 The Buddy Holly Center invites artists to submit work for Celebración\,  our annual Día de los Muertos (Day of the Dead) exhibition. This beloved exhibit invites local and regional artists to explore the rich traditions\,  symbolism\, [..]\nhttps://lubbockculturaldistrict.org/events/call-for-entries-celebracion-annual-dia-de-los-muertos-exhibiton-buddy-holly-center-2/
URL:https://lubbockculturaldistrict.org/events/call-for-entries-celebracion-annual-dia-de-los-muertos-exhibiton-buddy-holly-center-2/
END:VEVENT
END:VCALENDAR