BEGIN:VCALENDAR
VERSION:2.0
PRODID:-//eventon.com NONSGML v1.0//EN
CALSCALE:GREGORIAN
METHOD:PUBLISH
BEGIN:VEVENT
UID:69e7373020cd1
DTSTAMP:20260421T033704
DTSTART:20250919
DTEND:20250928
TZID:America/Chicago
LOCATION:
SUMMARY:Panhandle South Plains Fair @ South Plains Fairground @ 8am
DESCRIPTION:Panhandle South Plains Fair South Plains Fairground September 19th &#8211; 27th &nbsp; SAVE THE DATES 2025 South Plains Fair dates are Friday September 19th &#8211; Saturday September 27th. Preview night Thursday September 18th\, 2025 Gates open at 6pm -11pm Free parking &amp; free admission. $1 a ride night. Tickets: https://www.southplainsfair.com/ Mega[..]\nhttps://lubbockculturaldistrict.org/events/panhandle-south-plains-fair-south-plains-fairground-8am-2/
URL:https://lubbockculturaldistrict.org/events/panhandle-south-plains-fair-south-plains-fairground-8am-2/
END:VEVENT
END:VCALENDAR