BEGIN:VCALENDAR
VERSION:2.0
PRODID:-//eventon.com NONSGML v1.0//EN
CALSCALE:GREGORIAN
METHOD:PUBLISH
BEGIN:VEVENT
UID:69e638fc4c0a6
DTSTAMP:20260420T093228
DTSTART:20250621T100000Z
DTEND:20250621T185900Z
TZID:America/Chicago
LOCATION:
SUMMARY:Lubbock Juneteenth Celebration & Parade @ Makenzie Park
DESCRIPTION:2025 Lubbock Juneteenth Celebration &amp; Parade Mackenzie Park Saturday\,  June 21st &nbsp; The celebration kicks off tomorrow June 19th! Join us for the official start of Lubbock Juneteenth and connect with the community. Can’t make it Thursday? Don’t worry\,  Saturday\,  June 21st is packed with all day events and the[..]\nhttps://lubbockculturaldistrict.org/events/lubbock-juneteenth-celebration-parade-makenzie-park/
URL:https://lubbockculturaldistrict.org/events/lubbock-juneteenth-celebration-parade-makenzie-park/
END:VEVENT
END:VCALENDAR