BEGIN:VCALENDAR
VERSION:2.0
PRODID:-//eventon.com NONSGML v1.0//EN
CALSCALE:GREGORIAN
METHOD:PUBLISH
BEGIN:VEVENT
UID:69e4c4dc9a2df
DTSTAMP:20260419T070444
DTSTART:20251211T140000Z
DTEND:20251211T175900Z
TZID:America/Chicago
LOCATION:
SUMMARY:Lubbock Downtown Park Groundbreaking @ Broadway | Avenue L & M @ 2pm
DESCRIPTION:Broadway St. between Avenue L &amp; M Thursday\,  December 11th 2:00pm &nbsp; Join us as we celebrate a historic moment for our city &#8211; The groundbreaking of the Lubbock Downtown Park! Be part of the beginning of a vibrant new gathering place in the heart of downtown. https://downtownlbk.us/lubbock-downtown-park/ https://www.facebook.com/downtownlbk\nhttps://lubbockculturaldistrict.org/events/lubbock-downtown-park-groundbreaking-broadway-avenue-l-m-2pm/
URL:https://lubbockculturaldistrict.org/events/lubbock-downtown-park-groundbreaking-broadway-avenue-l-m-2pm/
END:VEVENT
END:VCALENDAR