BEGIN:VCALENDAR
VERSION:2.0
PRODID:-//eventon.com NONSGML v1.0//EN
CALSCALE:GREGORIAN
METHOD:PUBLISH
BEGIN:VEVENT
UID:69e7a320ab7d9
DTSTAMP:20260421T111736
DTSTART:20250515T173000Z
DTEND:20250515T143000Z
TZID:America/Chicago
LOCATION:
SUMMARY:Summer Showcase Concert Series @ Buddy Holly Center @ 5:30pm
DESCRIPTION:Summer Showcase Concert Series Buddy Holly Center Meadows Courtyard 1801 Crickets Avenue Thursdays starting May 15th &#8211; August 14th 5:30 &#8211; 7:30pm Free Live Music | Food Trucks | Cash Bar | Children&#8217;s Activities The wait is over! Introducing our Summer Showcase 2025 lineup! Be sure to mark your calendars[..]\nhttps://lubbockculturaldistrict.org/events/summer-showcase-concert-series-buddy-holly-center-530pm-3/
URL:https://lubbockculturaldistrict.org/events/summer-showcase-concert-series-buddy-holly-center-530pm-3/
END:VEVENT
END:VCALENDAR