BEGIN:VCALENDAR
VERSION:2.0
PRODID:-//eventon.com NONSGML v1.0//EN
CALSCALE:GREGORIAN
METHOD:PUBLISH
BEGIN:VEVENT
UID:69eb9cd1c4307
DTSTAMP:20260424T113945
DTSTART:20260417T200000Z
DTEND:20260417T185900Z
TZID:America/Chicago
LOCATION:
SUMMARY:Kandi Mountain: Three Peaks @ Cul•ture | Kongs | Studio Shot Bar @ 8pm
DESCRIPTION:Cul•ture | 1711 Texas Ave Kongs | 1707 Texas Ave Studio Shot Bar | 1717 Texas Ave Friday\,  April 17th 8:00 &#8211; 2:00pm Tickets: https://events.ticketleap.com/tickets/red-ravers/kandi-mountain-three-peaks &nbsp; It&#8217;s our third trip to Kandi Mountain\,  Charlie! And this year&#8230; the mountain is even bigger! Welcome to Kandi Mountain 3\,  Lubbock&#8217;s candy-coated\,  EDM[..]\nhttps://lubbockculturaldistrict.org/events/kandi-mountain-three-peaks-culture-kongs-studio-shot-bar-8pm/
URL:https://lubbockculturaldistrict.org/events/kandi-mountain-three-peaks-culture-kongs-studio-shot-bar-8pm/
END:VEVENT
END:VCALENDAR