BEGIN:VCALENDAR
VERSION:2.0
PRODID:-//eventon.com NONSGML v1.0//EN
CALSCALE:GREGORIAN
METHOD:PUBLISH
BEGIN:VEVENT
UID:69e620485df3b
DTSTAMP:20260420T074704
DTSTART:20260219T183000Z
DTEND:20260219T143000Z
TZID:America/Chicago
LOCATION:
SUMMARY:Dine & Dance with Adam Orozco @ Chez Sami Downtown @ 6:30pm
DESCRIPTION:Chez Sami Downtown 1219 Crickets Avenue | (806) 516-5721 | (806)368-9324 &nbsp; Thursday\,  February 12th 6:30 &#8211; 8:30/9:00pm* *We’ll dance as long as the music keeps us moving We are delighted to welcome dance instructor Adam Orozco for an elegant night of movement and dining. Having previously taught with LHUCA\, [..]\nhttps://lubbockculturaldistrict.org/events/dine-dance-with-adam-orozco-chez-sami-downtown-630pm/
URL:https://lubbockculturaldistrict.org/events/dine-dance-with-adam-orozco-chez-sami-downtown-630pm/
END:VEVENT
END:VCALENDAR