BEGIN:VCALENDAR
VERSION:2.0
PRODID:-//eventon.com NONSGML v1.0//EN
CALSCALE:GREGORIAN
METHOD:PUBLISH
BEGIN:VEVENT
UID:69e7a2cd19ea5
DTSTAMP:20260421T111613
DTSTART:20241212T193000Z
DTEND:20241215T100000Z
TZID:America/Chicago
LOCATION:
SUMMARY:The Nutcracker | Ballet Lubbock @ Buddy Holly Hall of Performing Arts and Sciences
DESCRIPTION:The Nutcracker | Ballet Lubbock Buddy Holly Hall of Performing Arts and Sciences 1300 Mac Davis Lane Thursday\,  December 12th &#8211; Sunday\,  December 15th Tickets: https://buddyhollyhall.org/events-tickets/ Thursday\,  December 12th | 7:30pm\,  doors at 6:30pm https://www.etix.com/ticket/p/54298347/the-nutcracker-2024-lubbock-ballet-lubbock-at-the-buddy-holly-hall Friday\,  December 13th | 7:30pm\,  doors at 6:30pm  https://www.etix.com/ticket/p/65171179/the-nutcracker-2024-lubbock-ballet-lubbock-at-the-buddy-holly-hall Saturday\,  December 14th | 2:00pm\,  doors at[..]\nhttps://lubbockculturaldistrict.org/events/the-nutcracker-ballet-lubbock-buddy-holly-hall-of-performing-arts-and-sciences-3/
URL:https://lubbockculturaldistrict.org/events/the-nutcracker-ballet-lubbock-buddy-holly-hall-of-performing-arts-and-sciences-3/
END:VEVENT
END:VCALENDAR