BEGIN:VCALENDAR
VERSION:2.0
PRODID:-//eventon.com NONSGML v1.0//EN
CALSCALE:GREGORIAN
METHOD:PUBLISH
BEGIN:VEVENT
UID:69e4c5cddf2d0
DTSTAMP:20260419T070845
DTSTART:20251122T150000Z
DTEND:20251122T175900Z
TZID:America/Chicago
LOCATION:
SUMMARY:Banana Bar Crawl @ Bar PM @ 3pm
DESCRIPTION:Bar PM 1211 University Ave Saturday\,  November 22nd 3:00pm Tickets: https://tickets.lineleap.com/e/DoeEtP3kFAUIkyXZfT7X Banana Bar Crawl! Lubbock…it’s time to peel out of the ordinary and go bananas! The nation’s wildest college bar crawl is hitting Texas Tech University as part of our 2025 tour to 80 colleges across the USA. This year\, [..]\nhttps://lubbockculturaldistrict.org/events/banana-bar-crawl-bar-pm-3pm/
URL:https://lubbockculturaldistrict.org/events/banana-bar-crawl-bar-pm-3pm/
END:VEVENT
END:VCALENDAR