BEGIN:VCALENDAR
VERSION:2.0
PRODID:-//eventon.com NONSGML v1.0//EN
CALSCALE:GREGORIAN
METHOD:PUBLISH
BEGIN:VEVENT
UID:69e6198110bd1
DTSTAMP:20260420T071809
DTSTART:20250410T090000Z
DTEND:20250411T120000Z
TZID:America/Chicago
LOCATION:
SUMMARY:Success Lab | Lubbock Arts Festival @ Lubbock Memorial Civic Center @ 9am
DESCRIPTION:Lubbock Arts Festival Lubbock Memorial Civic Center* 1501 Mac Davis Lane Thursday\,  April 10th &amp; Friday\,  April 11th 9:00am &#8211; 5:00pm Registration: https://lubbockculturalarts.org/workshop/lubbock-event-success-lab REGISTRATION DEADLINE: April 7th *We’ll meet inside the main doors of the Lubbock Memorial Civic Center on Day 1 and walk to the classroom together. Topic &amp;[..]\nhttps://lubbockculturaldistrict.org/events/success-lab-lubbock-arts-festival-lubbock-memorial-civic-center-9am/
URL:https://lubbockculturaldistrict.org/events/success-lab-lubbock-arts-festival-lubbock-memorial-civic-center-9am/
END:VEVENT
END:VCALENDAR