BEGIN:VCALENDAR
VERSION:2.0
PRODID:-//eventon.com NONSGML v1.0//EN
CALSCALE:GREGORIAN
METHOD:PUBLISH
BEGIN:VEVENT
UID:69eb9dd11646f
DTSTAMP:20260424T114401
DTSTART:20260409T160000Z
DTEND:20260409T185900Z
TZID:America/Chicago
LOCATION:
SUMMARY:Lan Law | DJ Lifestyle @ Bier Haus Lubbock @ 4pm
DESCRIPTION:BierHaus Lubbock 2009 Broadway Street Thursday\,  April 9th 4:00pm &#8211; 1:00am Lan law on the patio from 4pm &#8211; 7pm and DJ Lifestyle in the mix from 9pm-1am &nbsp; https://bierhauslubbock.com/ https://www.facebook.com/bierhauslbk/\nhttps://lubbockculturaldistrict.org/events/lan-law-dj-lifestyle-bier-haus-lubbock-4pm/
URL:https://lubbockculturaldistrict.org/events/lan-law-dj-lifestyle-bier-haus-lubbock-4pm/
END:VEVENT
END:VCALENDAR