BEGIN:VCALENDAR
VERSION:2.0
PRODID:-//eventon.com NONSGML v1.0//EN
CALSCALE:GREGORIAN
METHOD:PUBLISH
BEGIN:VEVENT
UID:69e4d18d6f140
DTSTAMP:20260419T075853
DTSTART:20250211
DTEND:20250217
TZID:America/Chicago
LOCATION:
SUMMARY:Les Miserables @ Helen DeVitt Jones Theater | Buddy Holly Hall
DESCRIPTION:Buddy Holly Hall Helen DeVitt Jones Theater 1300 Mac Davis Lane Tuesday\,  February 11th @ 7:30pm Wednesday\,  February 12th @ 7:30pm Thursday\,  February 13th @ 7:30pm Friday\,  February 14th @ 7:30pm Saturday\,  February 15th @ 2:00pm Saturday\,  February 15th @ 7:30pm Sunday\,  February 16th @ 1:00pm Sunday\,  February 16th @[..]\nhttps://lubbockculturaldistrict.org/events/les-miserables-helen-devitt-jones-theater-buddy-holly-hall/
URL:https://lubbockculturaldistrict.org/events/les-miserables-helen-devitt-jones-theater-buddy-holly-hall/
END:VEVENT
END:VCALENDAR