BEGIN:VCALENDAR
VERSION:2.0
PRODID:-//eventon.com NONSGML v1.0//EN
CALSCALE:GREGORIAN
METHOD:PUBLISH
BEGIN:VEVENT
UID:69e772edf2ef9
DTSTAMP:20260421T075157
DTSTART:20260217T183000Z
DTEND:20260217T143000Z
TZID:America/Chicago
LOCATION:
SUMMARY:Make Your Own Book @ Charles Adams Gallery @ 6:30pm
DESCRIPTION:Charles Adams Gallery 602 Avenue J Tuesdays | February 17th\,  24th and March 3rd 6:30 &#8211; 8:30pm Reservations: https://casp-arts.org/product/make-your-own-book-80-8-spots/ &nbsp; Students will learn different bookbinding techniques by creating hardcover books. Students can collage the cover to make a personalized book for journaling\,  sketching\,  photos\,  etc. Students are welcome to bring[..]\nhttps://lubbockculturaldistrict.org/events/make-your-own-book-charles-adams-gallery-630pm/
URL:https://lubbockculturaldistrict.org/events/make-your-own-book-charles-adams-gallery-630pm/
END:VEVENT
END:VCALENDAR