BEGIN:VCALENDAR
VERSION:2.0
PRODID:-//eventon.com NONSGML v1.0//EN
CALSCALE:GREGORIAN
METHOD:PUBLISH
BEGIN:VEVENT
UID:69e5ef6483f18
DTSTAMP:20260420T041828
DTSTART:20250326
DTEND:20250327
TZID:America/Chicago
LOCATION:
SUMMARY:EMPLOYMENT OPPORTUNITY IN THE LCD | Lead Administrator of Student Recruitment @ J. T. & Margaret Talkington College of Visual & Performing Arts | TTU School of Music
DESCRIPTION:EMPLOYMENT OPPORTUNITY IN THE LCD &nbsp; Lubbock Lead Administrator &#8211; Student Recruitment 40246BR Visual and Perform Arts Application: https://sjobs.brassring.com/TGnewUI/Search/Home/Home?partnerid=25898&amp;siteid=5635#jobDetails=885207_5635 Position Description Performs managerial work providing direction and guidance in setting and achieving goals and objectives; developing policies; reviewing guidelines\,  procedures\,  rules\,  and regulations; establishing priorities\,  standards\,  and measurement tools for[..]\nhttps://lubbockculturaldistrict.org/events/employment-opportunity-in-the-lcd-lead-administrator-of-student-recruitment-j-t-margaret-talkington-college-of-visual-performing-arts-ttu-school-of-music/
URL:https://lubbockculturaldistrict.org/events/employment-opportunity-in-the-lcd-lead-administrator-of-student-recruitment-j-t-margaret-talkington-college-of-visual-performing-arts-ttu-school-of-music/
END:VEVENT
END:VCALENDAR