BEGIN:VCALENDAR
VERSION:2.0
PRODID:-//eventon.com NONSGML v1.0//EN
CALSCALE:GREGORIAN
METHOD:PUBLISH
BEGIN:VEVENT
UID:69ead8707c50c
DTSTAMP:20260423T214152
DTSTART:20251024T090000Z
DTEND:20251025T090000Z
TZID:America/Chicago
LOCATION:
SUMMARY:Friends of the Library Book Sale @ Mahon Library @ 9am
DESCRIPTION:Mahon Library 1306 9th Street Friday\,  October 24th &amp; Saturday\,  October 25th 9am – 2pm Mark your calendars for the February FOL Book Store\,  where you can buy gently used books for as little 25 cents! Friday shopping open to members only from 9:00 a.m. – 2:00 p.m. Saturday shopping[..]\nhttps://lubbockculturaldistrict.org/events/friends-of-the-library-book-sale-mahon-library-9am/
URL:https://lubbockculturaldistrict.org/events/friends-of-the-library-book-sale-mahon-library-9am/
END:VEVENT
END:VCALENDAR