BEGIN:VCALENDAR
VERSION:2.0
PRODID:-//eventon.com NONSGML v1.0//EN
CALSCALE:GREGORIAN
METHOD:PUBLISH
BEGIN:VEVENT
UID:69e620def2a8d
DTSTAMP:20260420T074934
DTSTART:20260408T180000Z
DTEND:20260408T150000Z
TZID:America/Chicago
LOCATION:
SUMMARY:Run LBK | Jay Suenos @ Two Docs Brewing Company @ 6pm
DESCRIPTION:Two Docs Brewing Company 502 Texas Avenue Wednesday\,  April 8th 6:00 &#8211; 8:00pm All levels welcome\,  run or walk! Kid friendly\,  dog friendly\,  community building starts at 6pm! Live music with Jay Suenos from 6 &#8211; 8! https://twodocsbrewing.com/ https://twodocsbrewing.com/upcoming-events/ https://www.facebook.com/twodocsbrewing/\nhttps://lubbockculturaldistrict.org/events/run-lbk-jay-suenos-two-docs-brewing-company-6pm/
URL:https://lubbockculturaldistrict.org/events/run-lbk-jay-suenos-two-docs-brewing-company-6pm/
END:VEVENT
END:VCALENDAR