BEGIN:VCALENDAR
VERSION:2.0
PRODID:-//eventon.com NONSGML v1.0//EN
CALSCALE:GREGORIAN
METHOD:PUBLISH
BEGIN:VEVENT
UID:69e781fd68ea4
DTSTAMP:20260421T085613
DTSTART:20260410T190000Z
DTEND:20260410T170000Z
TZID:America/Chicago
LOCATION:
SUMMARY:SPiVEY! @ The West Table | The Brewery LBK @ 7pm
DESCRIPTION:The West Table | The Brewery LBK 1204 Broadway Street\,  103 | 104 Friday\,  April 10th 7 – 10pm &nbsp; Live music with SPiVEY. &nbsp; https://www.thewesttable.com/ https://www.facebook.com/thewesttablekitchenandbar https://www.thebrewerylbk.com/ https://www.facebook.com/thebrewerylbk/\nhttps://lubbockculturaldistrict.org/events/spivey-the-west-table-the-brewery-lbk-7pm-2/
URL:https://lubbockculturaldistrict.org/events/spivey-the-west-table-the-brewery-lbk-7pm-2/
END:VEVENT
END:VCALENDAR