BEGIN:VCALENDAR
VERSION:2.0
PRODID:-//eventon.com NONSGML v1.0//EN
CALSCALE:GREGORIAN
METHOD:PUBLISH
BEGIN:VEVENT
UID:69e5f00e70231
DTSTAMP:20260420T042118
DTSTART:20260309T190000Z
DTEND:20260309T185900Z
TZID:America/Chicago
LOCATION:
SUMMARY:Chicago @ Helen DeVitt Jones Theater | Buddy Holly Hall @ 7pm
DESCRIPTION:Buddy Holly Hall Helen DeVitt Jones Theater 1300 Mac Davis Lane Monday\,  March 9th 7:00pm\,  doors at 6pm Tickets: https://buddyhollyhall.org/event/chicago-the-band/131/ Hailed as one of the “most important bands in music since the dawn of the rock and roll era\, ” the legendary rock and roll band with horns\,  Chicago\,  came in[..]\nhttps://lubbockculturaldistrict.org/events/chicago-helen-devitt-jones-theater-buddy-holly-hall-7pm/
URL:https://lubbockculturaldistrict.org/events/chicago-helen-devitt-jones-theater-buddy-holly-hall-7pm/
END:VEVENT
END:VCALENDAR