BEGIN:VCALENDAR
VERSION:2.0
PRODID:-//eventon.com NONSGML v1.0//EN
CALSCALE:GREGORIAN
METHOD:PUBLISH
BEGIN:VEVENT
UID:69e4ca4527b8f
DTSTAMP:20260419T072749
DTSTART:20260818T183000Z
DTEND:20260818T150000Z
TZID:America/Chicago
LOCATION:
SUMMARY:True Crime Book Club @ Mahon Library @ 6:30pm
DESCRIPTION:True Crime Book Club Lubbock Public Library Mahon Library 1306 9th Street Third Tuesday of the Month 6:30 – 8:00pm Want to explore the world of crime\,  murder\,  and betrayal? Join us for our True Crime Book Club\,  where we play amateur detectives on some of the most infamous cases[..]\nhttps://lubbockculturaldistrict.org/events/true-crime-book-club-mahon-library-630pm/var/ri-7.l-L1
URL:https://lubbockculturaldistrict.org/events/true-crime-book-club-mahon-library-630pm/var/ri-7.l-L1
END:VEVENT
END:VCALENDAR