BEGIN:VCALENDAR
VERSION:2.0
PRODID:-//eventon.com NONSGML v1.0//EN
CALSCALE:GREGORIAN
METHOD:PUBLISH
BEGIN:VEVENT
UID:69e9f681176f4
DTSTAMP:20260423T053753
DTSTART:20260613
DTEND:20260614
TZID:America/Chicago
LOCATION:
SUMMARY:Auditions | Lubbock Youth Orchestras 2026-2027
DESCRIPTION:AUDITIONS Lubbock Youth Orchestras &nbsp; April 26th June 13th July 12th https://www.lubbockyouthorchestras.org/audition-information NEW AND RETURNING STUDENTS &#8211; Auditions for the 2026-27 LYO Season will take place on April 26\,  June 13\,  and July 12\,  2026 at the Lubbock Symphony Office (601 Ave. K\,  Lubbock\,  TX 79401). The registration fee is[..]\nhttps://lubbockculturaldistrict.org/events/auditions-lubbock-youth-orchestras-2026-2027/var/ri-1.l-L1
URL:https://lubbockculturaldistrict.org/events/auditions-lubbock-youth-orchestras-2026-2027/var/ri-1.l-L1
END:VEVENT
END:VCALENDAR