BEGIN:VCALENDAR
VERSION:2.0
PRODID:-//eventon.com NONSGML v1.0//EN
CALSCALE:GREGORIAN
METHOD:PUBLISH
BEGIN:VEVENT
UID:69e5efc083ce6
DTSTAMP:20260420T042000
DTSTART:20260228T190000Z
DTEND:20260228T175900Z
TZID:America/Chicago
LOCATION:
SUMMARY:Michael Connelly | Wander | Cross Creek Junction | Landon Farrar | Walker and The Whitelines @ Bash Riprocks @ 7pm
DESCRIPTION:Bash Riprocks 2419 Main St. Saturday\,  February 28th 7:00pm BASH AT BASH’S! Music: Michael Connelly Wander Cross Creek Junction Landon Farrar Walker and The White Lines Come get a free taco! Shirts for the event will be available (front and back on pictures 2&amp;3) and all proceeds will go to[..]\nhttps://lubbockculturaldistrict.org/events/michael-connelly-wander-cross-creek-junction-landon-farrar-walker-and-the-whitelines-bash-riprocks-7pm/
URL:https://lubbockculturaldistrict.org/events/michael-connelly-wander-cross-creek-junction-landon-farrar-walker-and-the-whitelines-bash-riprocks-7pm/
END:VEVENT
END:VCALENDAR