BEGIN:VCALENDAR
VERSION:2.0
PRODID:-//eventon.com NONSGML v1.0//EN
CALSCALE:GREGORIAN
METHOD:PUBLISH
BEGIN:VEVENT
UID:69e5ebfc01440
DTSTAMP:20260420T040356
DTSTART:20251218T193000Z
DTEND:20251218T175900Z
TZID:America/Chicago
LOCATION:
SUMMARY:Allman Betts Family Revival @ Helen DeVitt Jones Theater | Buddy Holly Hall @ 7:30pm
DESCRIPTION:Buddy Holly Hall Helen DeVitt Jones Theater 1300 Mac Davis Lane Thursday\,  December 18th 7:30pm Tickets: https://buddyhollyhall.org/event/allman-betts-family-revival/99/ &nbsp; GIBSON presents the ninth annual Allman Betts Family Revival. Get ready for an unforgettable night of music at the 9th Annual Allman Betts Family Revival! This extraordinary live music experience is hosted[..]\nhttps://lubbockculturaldistrict.org/events/allman-betts-family-revival-helen-devitt-jones-theater-buddy-holly-hall-730pm/
URL:https://lubbockculturaldistrict.org/events/allman-betts-family-revival-helen-devitt-jones-theater-buddy-holly-hall-730pm/
END:VEVENT
END:VCALENDAR